BEGIN:VCALENDAR
VERSION:2.0
PRODID:-//becarac.hr - ECPv6.15.14//NONSGML v1.0//EN
CALSCALE:GREGORIAN
METHOD:PUBLISH
X-WR-CALNAME:becarac.hr
X-ORIGINAL-URL:https://becarac.hr
X-WR-CALDESC:Events for becarac.hr
REFRESH-INTERVAL;VALUE=DURATION:PT1H
X-Robots-Tag:noindex
X-PUBLISHED-TTL:PT1H
BEGIN:VTIMEZONE
TZID:Europe/Zagreb
BEGIN:DAYLIGHT
TZOFFSETFROM:+0100
TZOFFSETTO:+0200
TZNAME:CEST
DTSTART:20220327T010000
END:DAYLIGHT
BEGIN:STANDARD
TZOFFSETFROM:+0200
TZOFFSETTO:+0100
TZNAME:CET
DTSTART:20221030T010000
END:STANDARD
BEGIN:DAYLIGHT
TZOFFSETFROM:+0100
TZOFFSETTO:+0200
TZNAME:CEST
DTSTART:20230326T010000
END:DAYLIGHT
BEGIN:STANDARD
TZOFFSETFROM:+0200
TZOFFSETTO:+0100
TZNAME:CET
DTSTART:20231029T010000
END:STANDARD
BEGIN:DAYLIGHT
TZOFFSETFROM:+0100
TZOFFSETTO:+0200
TZNAME:CEST
DTSTART:20240331T010000
END:DAYLIGHT
BEGIN:STANDARD
TZOFFSETFROM:+0200
TZOFFSETTO:+0100
TZNAME:CET
DTSTART:20241027T010000
END:STANDARD
END:VTIMEZONE
BEGIN:VEVENT
DTSTART;TZID=Europe/Zagreb:20231224T100000
DTEND;TZID=Europe/Zagreb:20231224T120000
DTSTAMP:20260419T232958
CREATED:20231211T070633Z
LAST-MODIFIED:20231211T070633Z
UID:1653-1703412000-1703419200@becarac.hr
SUMMARY:Običaji Badnjaka
DESCRIPTION:
URL:https://becarac.hr/dogadaj/obicaji-badnjaka/
LOCATION:ispred Gradske kuće
END:VEVENT
BEGIN:VEVENT
DTSTART;TZID=Europe/Zagreb:20231223T170000
DTEND;TZID=Europe/Zagreb:20231223T210000
DTSTAMP:20260419T232958
CREATED:20231211T070553Z
LAST-MODIFIED:20231211T070553Z
UID:1651-1703350800-1703365200@becarac.hr
SUMMARY:Advent u bećarskom šoru
DESCRIPTION:Vatrogasna društva\, TS Satir \nEno-gastro ponuda\, vožnja božićnim vlakićem
URL:https://becarac.hr/dogadaj/advent-u-becarskom-soru-4/
LOCATION:Bećarski šor
END:VEVENT
BEGIN:VEVENT
DTSTART;TZID=Europe/Zagreb:20231222T173000
DTEND;TZID=Europe/Zagreb:20231222T183000
DTSTAMP:20260419T232958
CREATED:20231211T070458Z
LAST-MODIFIED:20231211T070458Z
UID:1649-1703266200-1703269800@becarac.hr
SUMMARY:Uprizorenje živih jaslica
DESCRIPTION:
URL:https://becarac.hr/dogadaj/uprizorenje-zivih-jaslica/
LOCATION:Trg bećarca
END:VEVENT
BEGIN:VEVENT
DTSTART;TZID=Europe/Zagreb:20231222T170000
DTEND;TZID=Europe/Zagreb:20231222T173000
DTSTAMP:20260419T232958
CREATED:20231211T070427Z
LAST-MODIFIED:20231211T070427Z
UID:1647-1703264400-1703266200@becarac.hr
SUMMARY:Paljenje 4. adventske svijeće
DESCRIPTION:
URL:https://becarac.hr/dogadaj/paljenje-4-adventske-svijece/
LOCATION:Trg bećarca
END:VEVENT
BEGIN:VEVENT
DTSTART;TZID=Europe/Zagreb:20231217T180000
DTEND;TZID=Europe/Zagreb:20231217T193000
DTSTAMP:20260419T232958
CREATED:20231211T070335Z
LAST-MODIFIED:20231211T070335Z
UID:1644-1702836000-1702841400@becarac.hr
SUMMARY:20. rođendan pleterničkih mažoretkinja
DESCRIPTION:
URL:https://becarac.hr/dogadaj/20-rodendan-pleternickih-mazoretkinja/
LOCATION:Školska dvorana
END:VEVENT
BEGIN:VEVENT
DTSTART;TZID=Europe/Zagreb:20231217T170000
DTEND;TZID=Europe/Zagreb:20231217T173000
DTSTAMP:20260419T232958
CREATED:20231211T070226Z
LAST-MODIFIED:20231211T070226Z
UID:1641-1702832400-1702834200@becarac.hr
SUMMARY:Paljenje 3. adventske svijeće
DESCRIPTION:
URL:https://becarac.hr/dogadaj/paljenje-3-adventske-svijece/
LOCATION:Trg bećarca
END:VEVENT
BEGIN:VEVENT
DTSTART;TZID=Europe/Zagreb:20231216T170000
DTEND;TZID=Europe/Zagreb:20231216T210000
DTSTAMP:20260419T232958
CREATED:20231211T070137Z
LAST-MODIFIED:20231211T070137Z
UID:1639-1702746000-1702760400@becarac.hr
SUMMARY:Advent u bećarskom šoru
DESCRIPTION:Ribička društva\, TS Zlatna dolina \nEno-gastro ponuda\, vožnja božićnim vlakićem
URL:https://becarac.hr/dogadaj/advent-u-becarskom-soru-3/
LOCATION:Bećarski šor
END:VEVENT
BEGIN:VEVENT
DTSTART;TZID=Europe/Zagreb:20231216T150000
DTEND;TZID=Europe/Zagreb:20231216T220000
DTSTAMP:20260419T232958
CREATED:20231211T070029Z
LAST-MODIFIED:20231211T070029Z
UID:1635-1702738800-1702764000@becarac.hr
SUMMARY:Božićni sajam
DESCRIPTION:
URL:https://becarac.hr/dogadaj/bozicni-sajam/
LOCATION:Bećarski šor
END:VEVENT
BEGIN:VEVENT
DTSTART;TZID=Europe/Zagreb:20231214T180000
DTEND;TZID=Europe/Zagreb:20231214T193000
DTSTAMP:20260419T232958
CREATED:20231211T065829Z
LAST-MODIFIED:20231211T065829Z
UID:1632-1702576800-1702582200@becarac.hr
SUMMARY:Božićni koncert DV-a Tratinčica #2
DESCRIPTION:Nastupaju Krijesnice\, Leptirići i Pčelice
URL:https://becarac.hr/dogadaj/bozicni-koncert-dv-a-tratincica-2/
LOCATION:IC Terra Panonica
END:VEVENT
BEGIN:VEVENT
DTSTART;TZID=Europe/Zagreb:20231213T180000
DTEND;TZID=Europe/Zagreb:20231213T193000
DTSTAMP:20260419T232958
CREATED:20231211T065718Z
LAST-MODIFIED:20231211T065905Z
UID:1629-1702490400-1702495800@becarac.hr
SUMMARY:Božićni koncert DV-a Tratinčica
DESCRIPTION:Nastupaju Tratinčice\, Mravići\, Medvjedići i Lionsi
URL:https://becarac.hr/dogadaj/bozicni-koncert-dv-a-tratincica/
LOCATION:IC Terra Panonica
END:VEVENT
BEGIN:VEVENT
DTSTART;TZID=Europe/Zagreb:20231212T193000
DTEND;TZID=Europe/Zagreb:20231212T210000
DTSTAMP:20260419T232958
CREATED:20231208T095719Z
LAST-MODIFIED:20231208T095719Z
UID:1626-1702409400-1702414800@becarac.hr
SUMMARY:Božićni koncert Glazbene škole Pleternica
DESCRIPTION:
URL:https://becarac.hr/dogadaj/bozicni-koncert-glazbene-skole-pleternica/
LOCATION:IC Terra Panonica
END:VEVENT
BEGIN:VEVENT
DTSTART;TZID=Europe/Zagreb:20231210T170000
DTEND;TZID=Europe/Zagreb:20231210T173000
DTSTAMP:20260419T232958
CREATED:20231208T095306Z
LAST-MODIFIED:20231208T095306Z
UID:1620-1702227600-1702229400@becarac.hr
SUMMARY:Paljenje druge adventske svijeće
DESCRIPTION:
URL:https://becarac.hr/dogadaj/paljenje-druge-adventske-svijece/
END:VEVENT
BEGIN:VEVENT
DTSTART;TZID=Europe/Zagreb:20231209T170000
DTEND;TZID=Europe/Zagreb:20231209T210000
DTSTAMP:20260419T232958
CREATED:20231208T095214Z
LAST-MODIFIED:20231208T095214Z
UID:1617-1702141200-1702155600@becarac.hr
SUMMARY:Advent u bećarskom šoru
DESCRIPTION:
URL:https://becarac.hr/dogadaj/advent-u-becarskom-soru-2/
END:VEVENT
BEGIN:VEVENT
DTSTART;TZID=Europe/Zagreb:20231207T190000
DTEND;TZID=Europe/Zagreb:20231210T230000
DTSTAMP:20260419T232958
CREATED:20231208T095503Z
LAST-MODIFIED:20231208T095520Z
UID:1623-1701975600-1702249200@becarac.hr
SUMMARY:Malonogometni turnir sv. Nikola
DESCRIPTION:
URL:https://becarac.hr/dogadaj/malonogometni-turnir-sv-nikola/
END:VEVENT
BEGIN:VEVENT
DTSTART;VALUE=DATE:20231206
DTEND;VALUE=DATE:20231207
DTSTAMP:20260419T232958
CREATED:20231211T070930Z
LAST-MODIFIED:20231211T070930Z
UID:1667-1701820800-1701907199@becarac.hr
SUMMARY:Sveti Nikola
DESCRIPTION:
URL:https://becarac.hr/dogadaj/sveti-nikola/
END:VEVENT
BEGIN:VEVENT
DTSTART;VALUE=DATE:20231206
DTEND;VALUE=DATE:20231207
DTSTAMP:20260419T232958
CREATED:20231211T070840Z
LAST-MODIFIED:20231211T070840Z
UID:1662-1701820800-1701907199@becarac.hr
SUMMARY:Dan grada
DESCRIPTION:
URL:https://becarac.hr/dogadaj/dan-grada/
END:VEVENT
BEGIN:VEVENT
DTSTART;TZID=Europe/Zagreb:20231201T080000
DTEND;TZID=Europe/Zagreb:20231231T170000
DTSTAMP:20260419T232958
CREATED:20231208T095050Z
LAST-MODIFIED:20231208T095050Z
UID:1614-1701417600-1704042000@becarac.hr
SUMMARY:Advent u bećarskom šoru
DESCRIPTION:
URL:https://becarac.hr/dogadaj/advent-u-becarskom-soru/
END:VEVENT
BEGIN:VEVENT
DTSTART;TZID=Europe/Zagreb:20231124T080000
DTEND;TZID=Europe/Zagreb:20231126T170000
DTSTAMP:20260419T232958
CREATED:20231026T064056Z
LAST-MODIFIED:20231026T064056Z
UID:1307-1700812800-1701018000@becarac.hr
SUMMARY:Vikend za kulturu
DESCRIPTION:
URL:https://becarac.hr/dogadaj/vikend-za-kulturu/
LOCATION:IC Terra Panonica
END:VEVENT
BEGIN:VEVENT
DTSTART;TZID=Europe/Zagreb:20231112T170000
DTEND;TZID=Europe/Zagreb:20231112T180000
DTSTAMP:20260419T232958
CREATED:20231026T064007Z
LAST-MODIFIED:20231026T064131Z
UID:1305-1699808400-1699812000@becarac.hr
SUMMARY:Dječja predstava "Mačka u čizmama"
DESCRIPTION:
URL:https://becarac.hr/dogadaj/djecja-predstava-macka-u-cizmama/
LOCATION:IC Terra Panonica
END:VEVENT
BEGIN:VEVENT
DTSTART;TZID=Europe/Zagreb:20231111T080000
DTEND;TZID=Europe/Zagreb:20231111T150000
DTSTAMP:20260419T232958
CREATED:20231026T063834Z
LAST-MODIFIED:20231026T064207Z
UID:1303-1699689600-1699714800@becarac.hr
SUMMARY:Sajmeni dan
DESCRIPTION:
URL:https://becarac.hr/dogadaj/sajmeni-dan/
LOCATION:Gradska tržnica Pleternica
END:VEVENT
BEGIN:VEVENT
DTSTART;TZID=Europe/Zagreb:20231105T180000
DTEND;TZID=Europe/Zagreb:20231105T193000
DTSTAMP:20260419T232958
CREATED:20231104T083801Z
LAST-MODIFIED:20231104T083801Z
UID:1320-1699207200-1699212600@becarac.hr
SUMMARY:Običaji branja kukuruza
DESCRIPTION:Ovaj vikend vas u našem Muzej bećarca očekuje nešto iz vlastite produkcije.\nI prije nego smo započeli radove na trgu i muzeju\, mi smo radili\, snimali\, družili se i rezultat toga je amaterski dokumentarni film “Običaji branja kukuruza” u koji su uključena naša kulturno umjetnička društva Kud Orljava – Pleternica i Kud Svilenka Buk.\nIako amaterski\, jako smo ponosni na njega i pozivamo vas da ga dođete pogledati u nedjelju\, 5.11. u 18h. Film je besplatan za sve posjetitelje koji kupe ulaznicu za obilazak muzeja. Vidimo se!
URL:https://becarac.hr/dogadaj/obicaji-branja-kukuruza/
LOCATION:IC Muzej bećarca\, Trg bećarca 1\, Pleternica\, Croatia (Local Name: Hrvatska)
ATTACH;FMTTYPE=image/jpeg:https://becarac.hr/wp-content/uploads/2023/11/obicaj-branja-kukuruza.jpg
END:VEVENT
BEGIN:VEVENT
DTSTART;TZID=Europe/Zagreb:20231015T080000
DTEND;TZID=Europe/Zagreb:20231115T170000
DTSTAMP:20260419T232958
CREATED:20231026T063715Z
LAST-MODIFIED:20231026T063715Z
UID:1299-1697356800-1700067600@becarac.hr
SUMMARY:Mjesec hrvatske knjige
DESCRIPTION:
URL:https://becarac.hr/dogadaj/mjesec-hrvatske-knjige/
LOCATION:Hrvatska knjižnica i čitaonica Pleternica\, Vinogradska 3\, Pleternica
END:VEVENT
BEGIN:VEVENT
DTSTART;VALUE=DATE:20231001
DTEND;VALUE=DATE:20231127
DTSTAMP:20260419T232958
CREATED:20231026T062951Z
LAST-MODIFIED:20231026T062951Z
UID:1296-1696118400-1701043199@becarac.hr
SUMMARY:Jesen u Pleternici
DESCRIPTION:
URL:https://becarac.hr/dogadaj/jesen-u-pleternici/
END:VEVENT
BEGIN:VEVENT
DTSTART;TZID=Europe/Zagreb:20230921T170000
DTEND;TZID=Europe/Zagreb:20230921T180000
DTSTAMP:20260419T232958
CREATED:20230527T104853Z
LAST-MODIFIED:20230527T104853Z
UID:1067-1695315600-1695319200@becarac.hr
SUMMARY:Veseli četvrtak
DESCRIPTION:Nositelj projekta ”Veseli četvrtak” je Hrvatska knjižnica i čitaonica Pleternica s partnerom DV Tratinčica Pleternica te ga financijski podupire Zaklada ”Hrvatska za djecu”. Trajanje projekta je od 1. studenog 2022. – 30. rujna 2023. Svaki prvi i treći četvrtak u mjesecu u prostoru Knjižnice održavat će se radionice na temu društvenog\, emocionalnog i tjelesnog razvoja. Svaka radionica ima određenu odgojno-obrazovnu temu koja će se proučiti kroz čitanje slikovnice\, razgovor\, druženje i aktivnosti. Ciljana skupina su djeca u dobi od 3 do 10 godina. Termin radionica je od 17 do 18 sati. Radionice su besplatne! Ovim projektom želimo ostvariti povećanje kvalitetnog provođenja slobodnog vremena u kulturnoj ustanovi sa svrhom učenja i razvoja djece kroz igru i druženje. Krajnji cilj je stvaranje navike kod djece za ovaj tip radionica i nastavak radionica u knjižnici.
URL:https://becarac.hr/dogadaj/veseli-cetvrtak-10/
ATTACH;FMTTYPE=image/jpeg:https://becarac.hr/wp-content/uploads/2023/05/Veseli_cetvrtak.jpg
END:VEVENT
BEGIN:VEVENT
DTSTART;TZID=Europe/Zagreb:20230907T170000
DTEND;TZID=Europe/Zagreb:20230907T180000
DTSTAMP:20260419T232958
CREATED:20230527T104842Z
LAST-MODIFIED:20230527T104842Z
UID:1065-1694106000-1694109600@becarac.hr
SUMMARY:Veseli četvrtak
DESCRIPTION:Nositelj projekta ”Veseli četvrtak” je Hrvatska knjižnica i čitaonica Pleternica s partnerom DV Tratinčica Pleternica te ga financijski podupire Zaklada ”Hrvatska za djecu”. Trajanje projekta je od 1. studenog 2022. – 30. rujna 2023. Svaki prvi i treći četvrtak u mjesecu u prostoru Knjižnice održavat će se radionice na temu društvenog\, emocionalnog i tjelesnog razvoja. Svaka radionica ima određenu odgojno-obrazovnu temu koja će se proučiti kroz čitanje slikovnice\, razgovor\, druženje i aktivnosti. Ciljana skupina su djeca u dobi od 3 do 10 godina. Termin radionica je od 17 do 18 sati. Radionice su besplatne! Ovim projektom želimo ostvariti povećanje kvalitetnog provođenja slobodnog vremena u kulturnoj ustanovi sa svrhom učenja i razvoja djece kroz igru i druženje. Krajnji cilj je stvaranje navike kod djece za ovaj tip radionica i nastavak radionica u knjižnici.
URL:https://becarac.hr/dogadaj/veseli-cetvrtak-9/
ATTACH;FMTTYPE=image/jpeg:https://becarac.hr/wp-content/uploads/2023/05/Veseli_cetvrtak.jpg
END:VEVENT
BEGIN:VEVENT
DTSTART;TZID=Europe/Zagreb:20230820T193000
DTEND;TZID=Europe/Zagreb:20230820T220000
DTSTAMP:20260419T232958
CREATED:20230816T110914Z
LAST-MODIFIED:20230816T110914Z
UID:1275-1692559800-1692568800@becarac.hr
SUMMARY:ZAVRŠNI KONCERT
DESCRIPTION:
URL:https://becarac.hr/dogadaj/zavrsni-koncert/
END:VEVENT
BEGIN:VEVENT
DTSTART;TZID=Europe/Zagreb:20230817T170000
DTEND;TZID=Europe/Zagreb:20230817T180000
DTSTAMP:20260419T232958
CREATED:20230527T104829Z
LAST-MODIFIED:20230527T104829Z
UID:1063-1692291600-1692295200@becarac.hr
SUMMARY:Veseli četvrtak
DESCRIPTION:Nositelj projekta ”Veseli četvrtak” je Hrvatska knjižnica i čitaonica Pleternica s partnerom DV Tratinčica Pleternica te ga financijski podupire Zaklada ”Hrvatska za djecu”. Trajanje projekta je od 1. studenog 2022. – 30. rujna 2023. Svaki prvi i treći četvrtak u mjesecu u prostoru Knjižnice održavat će se radionice na temu društvenog\, emocionalnog i tjelesnog razvoja. Svaka radionica ima određenu odgojno-obrazovnu temu koja će se proučiti kroz čitanje slikovnice\, razgovor\, druženje i aktivnosti. Ciljana skupina su djeca u dobi od 3 do 10 godina. Termin radionica je od 17 do 18 sati. Radionice su besplatne! Ovim projektom želimo ostvariti povećanje kvalitetnog provođenja slobodnog vremena u kulturnoj ustanovi sa svrhom učenja i razvoja djece kroz igru i druženje. Krajnji cilj je stvaranje navike kod djece za ovaj tip radionica i nastavak radionica u knjižnici.
URL:https://becarac.hr/dogadaj/veseli-cetvrtak-8/
ATTACH;FMTTYPE=image/jpeg:https://becarac.hr/wp-content/uploads/2023/05/Veseli_cetvrtak.jpg
END:VEVENT
BEGIN:VEVENT
DTSTART;VALUE=DATE:20230815
DTEND;VALUE=DATE:20230821
DTSTAMP:20260419T232958
CREATED:20230816T102229Z
LAST-MODIFIED:20230816T102229Z
UID:1273-1692057600-1692575999@becarac.hr
SUMMARY:2. Ljetni tamburaški kamp
DESCRIPTION:
URL:https://becarac.hr/dogadaj/2-ljetni-tamburaski-kamp/
END:VEVENT
BEGIN:VEVENT
DTSTART;TZID=Europe/Zagreb:20230803T170000
DTEND;TZID=Europe/Zagreb:20230803T180000
DTSTAMP:20260419T232958
CREATED:20230527T104818Z
LAST-MODIFIED:20230527T104818Z
UID:1061-1691082000-1691085600@becarac.hr
SUMMARY:Veseli četvrtak
DESCRIPTION:Nositelj projekta ”Veseli četvrtak” je Hrvatska knjižnica i čitaonica Pleternica s partnerom DV Tratinčica Pleternica te ga financijski podupire Zaklada ”Hrvatska za djecu”. Trajanje projekta je od 1. studenog 2022. – 30. rujna 2023. Svaki prvi i treći četvrtak u mjesecu u prostoru Knjižnice održavat će se radionice na temu društvenog\, emocionalnog i tjelesnog razvoja. Svaka radionica ima određenu odgojno-obrazovnu temu koja će se proučiti kroz čitanje slikovnice\, razgovor\, druženje i aktivnosti. Ciljana skupina su djeca u dobi od 3 do 10 godina. Termin radionica je od 17 do 18 sati. Radionice su besplatne! Ovim projektom želimo ostvariti povećanje kvalitetnog provođenja slobodnog vremena u kulturnoj ustanovi sa svrhom učenja i razvoja djece kroz igru i druženje. Krajnji cilj je stvaranje navike kod djece za ovaj tip radionica i nastavak radionica u knjižnici.
URL:https://becarac.hr/dogadaj/veseli-cetvrtak-7/
ATTACH;FMTTYPE=image/jpeg:https://becarac.hr/wp-content/uploads/2023/05/Veseli_cetvrtak.jpg
END:VEVENT
BEGIN:VEVENT
DTSTART;TZID=Europe/Zagreb:20230720T170000
DTEND;TZID=Europe/Zagreb:20230720T180000
DTSTAMP:20260419T232958
CREATED:20230527T104804Z
LAST-MODIFIED:20230527T104804Z
UID:1059-1689872400-1689876000@becarac.hr
SUMMARY:Veseli četvrtak
DESCRIPTION:Nositelj projekta ”Veseli četvrtak” je Hrvatska knjižnica i čitaonica Pleternica s partnerom DV Tratinčica Pleternica te ga financijski podupire Zaklada ”Hrvatska za djecu”. Trajanje projekta je od 1. studenog 2022. – 30. rujna 2023. Svaki prvi i treći četvrtak u mjesecu u prostoru Knjižnice održavat će se radionice na temu društvenog\, emocionalnog i tjelesnog razvoja. Svaka radionica ima određenu odgojno-obrazovnu temu koja će se proučiti kroz čitanje slikovnice\, razgovor\, druženje i aktivnosti. Ciljana skupina su djeca u dobi od 3 do 10 godina. Termin radionica je od 17 do 18 sati. Radionice su besplatne! Ovim projektom želimo ostvariti povećanje kvalitetnog provođenja slobodnog vremena u kulturnoj ustanovi sa svrhom učenja i razvoja djece kroz igru i druženje. Krajnji cilj je stvaranje navike kod djece za ovaj tip radionica i nastavak radionica u knjižnici.
URL:https://becarac.hr/dogadaj/veseli-cetvrtak-6/
ATTACH;FMTTYPE=image/jpeg:https://becarac.hr/wp-content/uploads/2023/05/Veseli_cetvrtak.jpg
END:VEVENT
END:VCALENDAR