BEGIN:VCALENDAR
VERSION:2.0
PRODID:-//becarac.hr - ECPv6.15.14//NONSGML v1.0//EN
CALSCALE:GREGORIAN
METHOD:PUBLISH
X-WR-CALNAME:becarac.hr
X-ORIGINAL-URL:https://becarac.hr
X-WR-CALDESC:Events for becarac.hr
REFRESH-INTERVAL;VALUE=DURATION:PT1H
X-Robots-Tag:noindex
X-PUBLISHED-TTL:PT1H
BEGIN:VTIMEZONE
TZID:Europe/Zagreb
BEGIN:DAYLIGHT
TZOFFSETFROM:+0100
TZOFFSETTO:+0200
TZNAME:CEST
DTSTART:20220327T010000
END:DAYLIGHT
BEGIN:STANDARD
TZOFFSETFROM:+0200
TZOFFSETTO:+0100
TZNAME:CET
DTSTART:20221030T010000
END:STANDARD
BEGIN:DAYLIGHT
TZOFFSETFROM:+0100
TZOFFSETTO:+0200
TZNAME:CEST
DTSTART:20230326T010000
END:DAYLIGHT
BEGIN:STANDARD
TZOFFSETFROM:+0200
TZOFFSETTO:+0100
TZNAME:CET
DTSTART:20231029T010000
END:STANDARD
BEGIN:DAYLIGHT
TZOFFSETFROM:+0100
TZOFFSETTO:+0200
TZNAME:CEST
DTSTART:20240331T010000
END:DAYLIGHT
BEGIN:STANDARD
TZOFFSETFROM:+0200
TZOFFSETTO:+0100
TZNAME:CET
DTSTART:20241027T010000
END:STANDARD
END:VTIMEZONE
BEGIN:VEVENT
DTSTART;TZID=Europe/Zagreb:20230518T170000
DTEND;TZID=Europe/Zagreb:20230518T180000
DTSTAMP:20260420T084909
CREATED:20230527T104636Z
LAST-MODIFIED:20230527T104636Z
UID:1051-1684429200-1684432800@becarac.hr
SUMMARY:Veseli četvrtak
DESCRIPTION:Nositelj projekta ”Veseli četvrtak” je Hrvatska knjižnica i čitaonica Pleternica s partnerom DV Tratinčica Pleternica te ga financijski podupire Zaklada ”Hrvatska za djecu”. Trajanje projekta je od 1. studenog 2022. – 30. rujna 2023. Svaki prvi i treći četvrtak u mjesecu u prostoru Knjižnice održavat će se radionice na temu društvenog\, emocionalnog i tjelesnog razvoja. Svaka radionica ima određenu odgojno-obrazovnu temu koja će se proučiti kroz čitanje slikovnice\, razgovor\, druženje i aktivnosti. Ciljana skupina su djeca u dobi od 3 do 10 godina. Termin radionica je od 17 do 18 sati. Radionice su besplatne! Ovim projektom želimo ostvariti povećanje kvalitetnog provođenja slobodnog vremena u kulturnoj ustanovi sa svrhom učenja i razvoja djece kroz igru i druženje. Krajnji cilj je stvaranje navike kod djece za ovaj tip radionica i nastavak radionica u knjižnici.
URL:https://becarac.hr/dogadaj/veseli-cetvrtak-2/
ATTACH;FMTTYPE=image/jpeg:https://becarac.hr/wp-content/uploads/2023/05/Veseli_cetvrtak.jpg
END:VEVENT
BEGIN:VEVENT
DTSTART;TZID=Europe/Zagreb:20230513T100000
DTEND;TZID=Europe/Zagreb:20230513T150000
DTSTAMP:20260420T084909
CREATED:20230527T103359Z
LAST-MODIFIED:20230527T103555Z
UID:1035-1683972000-1683990000@becarac.hr
SUMMARY:Sajmeni dan – Gradska tržnica Pleternica
DESCRIPTION:Svake druge subote u mjesecu obilježava se sajmeni dan na Gradskoj tržnici Pleternica. U sklopu svibanjskog sajma održat će se promocija zdrave lokalne hrane.
URL:https://becarac.hr/dogadaj/sajmeni-dan-gradska-trznica-pleternica/
ATTACH;FMTTYPE=image/jpeg:https://becarac.hr/wp-content/uploads/2023/05/F-13.05.jpg
END:VEVENT
BEGIN:VEVENT
DTSTART;TZID=Europe/Zagreb:20230511T110000
DTEND;TZID=Europe/Zagreb:20230511T140000
DTSTAMP:20260420T084909
CREATED:20230527T081610Z
LAST-MODIFIED:20230527T081610Z
UID:896-1683802800-1683813600@becarac.hr
SUMMARY:Međunarodna konferencija “Baština u funkciji turizma”
DESCRIPTION:Grad Pleternica u suradnji s Požeško-slavonskom županijom i partnerima: Grad Pakrac\, Muzej grada Pakraca\, Gradska knjižnica Pakrac\, Turistička zajednica Požeško-slavonske županije i Javna ustanova Pleternica uz tehničku pomoć Regionalnog koordinatora razvoja Požeško- slavonske županije\, provodi projekt razvoja Svijet graševine (Spahijski podrum\, Muzej bećarca\, brendiranje) kao destinacije vinskog i kulturnog turizma. Treća po redu međunarodna konferencija ”Baština u funkciji turizma” održat će se u interpretacijskom centru Terra Panonica dana 11. svibnja s početkom u 11 sati.
URL:https://becarac.hr/dogadaj/medunarodna-konferencija-bastina-u-funkciji-turizma/
ATTACH;FMTTYPE=image/jpeg:https://becarac.hr/wp-content/uploads/2023/05/F-11.05.jpg
END:VEVENT
BEGIN:VEVENT
DTSTART;TZID=Europe/Zagreb:20230510T213000
DTEND;TZID=Europe/Zagreb:20230510T223000
DTSTAMP:20260420T084909
CREATED:20230527T074558Z
LAST-MODIFIED:20230527T081449Z
UID:884-1683754200-1683757800@becarac.hr
SUMMARY:Gibaj se i igraj
DESCRIPTION:U srijedu će se na Trgu bećarca s početkom u 09:30 sati obilježiti Dan tjelesne aktivnosti pod nazivom ”Gibaj se i igraj”’. Zabavne igre pripremit će DV Tratinčica Pleternica uz promociju svog sportskog programa Škola sporta.
URL:https://becarac.hr/dogadaj/gibaj-se-i-igraj/
ATTACH;FMTTYPE=image/jpeg:https://becarac.hr/wp-content/uploads/2023/05/F-10.05.jpg
END:VEVENT
BEGIN:VEVENT
DTSTART;TZID=Europe/Zagreb:20230507T170000
DTEND;TZID=Europe/Zagreb:20230507T190000
DTSTAMP:20260420T084909
CREATED:20230527T103224Z
LAST-MODIFIED:20230527T103224Z
UID:1031-1683478800-1683486000@becarac.hr
SUMMARY:Bećarsko natpjevavanje
DESCRIPTION:U Muzeju bećarca će se održati zanimljiva edukativna radionica pod nazivom Bećarsko natpjevavanje dana 7. svibnja s početkom u 17:00h. Prijave su otvorene\, a cijena radionice iznosi 5 EUR.
URL:https://becarac.hr/dogadaj/becarsko-natpjevavanje/
ATTACH;FMTTYPE=image/jpeg:https://becarac.hr/wp-content/uploads/2023/05/F-07.05.jpg
END:VEVENT
BEGIN:VEVENT
DTSTART;TZID=Europe/Zagreb:20230504T170000
DTEND;TZID=Europe/Zagreb:20230504T180000
DTSTAMP:20260420T084909
CREATED:20230527T104426Z
LAST-MODIFIED:20230527T104426Z
UID:1047-1683219600-1683223200@becarac.hr
SUMMARY:Veseli četvrtak
DESCRIPTION:Nositelj projekta ”Veseli četvrtak” je Hrvatska knjižnica i čitaonica Pleternica s partnerom DV Tratinčica Pleternica te ga financijski podupire Zaklada ”Hrvatska za djecu”. Trajanje projekta je od 1. studenog 2022. – 30. rujna 2023. Svaki prvi i treći četvrtak u mjesecu u prostoru Knjižnice održavat će se radionice na temu društvenog\, emocionalnog i tjelesnog razvoja. Svaka radionica ima određenu odgojno-obrazovnu temu koja će se proučiti kroz čitanje slikovnice\, razgovor\, druženje i aktivnosti. Ciljana skupina su djeca u dobi od 3 do 10 godina. Termin radionica je od 17 do 18 sati. Radionice su besplatne! Ovim projektom želimo ostvariti povećanje kvalitetnog provođenja slobodnog vremena u kulturnoj ustanovi sa svrhom učenja i razvoja djece kroz igru i druženje. Krajnji cilj je stvaranje navike kod djece za ovaj tip radionica i nastavak radionica u knjižnici.
URL:https://becarac.hr/dogadaj/veseli-cetvrtak/
ATTACH;FMTTYPE=image/jpeg:https://becarac.hr/wp-content/uploads/2023/05/Veseli_cetvrtak.jpg
END:VEVENT
END:VCALENDAR